BEGIN:VCALENDAR
VERSION:2.0
PRODID:icalendar-ruby
CALSCALE:GREGORIAN
METHOD:PUBLISH
BEGIN:VEVENT
DTSTAMP:20260421T154836Z
UID:146-496542@bethelsundridge.com
DTSTART:20260425T120000Z
DTEND:20260426T180000Z
CLASS:PUBLIC
CREATED:20260415T221954
DESCRIPTION:Men—don’t miss this.  \nImpactus TIME OUT | April 25 | Sud
 bury  \nPowerful speakers\, worship\, food\, and a great day together.  
 \n$45 (lunch included)   \nSee Mike Thompson for tickets\nLet us know if
  you want to carpool\nSave the date &amp\; sign up ASAP!
LAST-MODIFIED:20260415T221954
LOCATION:
SUMMARY:Impactus | TIMEOUT - Mens One-Day Retreat
URL;VALUE=URI:https://www.bethelsundridge.com/events/impactus-timeout-mens-
 one-day-retreat/2026-04-25
ATTACH;FILENAME=Announcement-Slideshow.png;FMTTYPE=image/png:https://dq5pwp
 g1q8ru0.cloudfront.net/2026/04/16/02/19/37/62f011cd-b4c9-49d9-9fe8-b1b8a83
 5459e/Announcement-Slideshow.png
END:VEVENT
END:VCALENDAR
