BEGIN:VCALENDAR
VERSION:2.0
PRODID:icalendar-ruby
CALSCALE:GREGORIAN
METHOD:PUBLISH
BEGIN:VEVENT
DTSTAMP:20260423T165012Z
UID:136-496547@bethelsundridge.com
DTSTART:20260627T143000Z
DTEND:20260629T153000Z
CLASS:PUBLIC
CREATED:20260415T222054
DESCRIPTION:\nLadies\, get ready to move and sweat in a Christ-centered env
 ironment. \nCome in comfortable clothes and shoes. \nBring your water bott
 le and your best smile.\nAll fitness levels welcome.\n\nLed by Marie Stive
 ne.\n\nThe 4th Saturday of each Month\n
LAST-MODIFIED:20260415T222054
LOCATION:
SUMMARY:Ladies Praise & Worship Workout
URL;VALUE=URI:https://www.bethelsundridge.com/events/ladies-praise-worship-
 workout/2026-06-27
ATTACH;FILENAME=praise--worship-workout--Presentation.png;FMTTYPE=image/png
 :https://dq5pwpg1q8ru0.cloudfront.net/2026/02/11/02/57/17/d40dc1ad-e4a7-4c
 77-9a6e-c676b5f10a85/praise--worship-workout--Presentation.png
END:VEVENT
END:VCALENDAR
