BEGIN:VCALENDAR
VERSION:2.0
PRODID:icalendar-ruby
CALSCALE:GREGORIAN
METHOD:PUBLISH
BEGIN:VEVENT
DTSTAMP:20260424T170419Z
UID:145-496233@bethelsundridge.com
DTSTART:20260503T140000Z
DTEND:20260504T030000Z
CLASS:PUBLIC
CREATED:20260415T214846
DESCRIPTION:Youth Overflow Fundraiser Bake Sale\nSunday\, May 3rd\nWe’re 
 looking for bakers to help support our youth!\nBring your baked goods (coo
 kies\, brownies\, desserts\, etc.)\nPre-packaged if possible\nCash or e-tr
 ansfer accepted \nMore info\, contact Joy Burt for details
LAST-MODIFIED:20260415T214846
LOCATION:
SUMMARY:Overflow Fundraising Bake Sale!
URL;VALUE=URI:https://www.bethelsundridge.com/events/overflow-fundraising-b
 ake-sale/2026-05-03
ATTACH;FILENAME=Announcement-Slideshow.png;FMTTYPE=image/png:https://dq5pwp
 g1q8ru0.cloudfront.net/2026/04/16/01/48/45/8e9b8b60-5440-4e5d-b543-62d5539
 c5982/Announcement-Slideshow.png
END:VEVENT
END:VCALENDAR
